Package: gDRimport Version: 1.4.0 Command: /Library/Frameworks/R.framework/Resources/bin/R CMD build --keep-empty-dirs --no-resave-data gDRimport StartedAt: 2025-02-03 19:04:44 -0500 (Mon, 03 Feb 2025) EndedAt: 2025-02-03 19:06:28 -0500 (Mon, 03 Feb 2025) EllapsedTime: 104.6 seconds RetCode: 0 Status: OK PackageFile: gDRimport_1.4.0.tar.gz PackageFileSize: 3.007 MiB