Package: gDRimport Version: 1.4.0 Command: /Library/Frameworks/R.framework/Resources/bin/R CMD INSTALL gDRimport StartedAt: 2025-01-27 18:03:55 -0500 (Mon, 27 Jan 2025) EndedAt: 2025-01-27 18:04:23 -0500 (Mon, 27 Jan 2025) EllapsedTime: 27.9 seconds RetCode: 0 Status: OK