Package: gDR Version: 1.4.1 Command: /Library/Frameworks/R.framework/Resources/bin/R CMD build --keep-empty-dirs --no-resave-data gDR StartedAt: 2025-03-31 18:50:58 -0400 (Mon, 31 Mar 2025) EndedAt: 2025-03-31 18:52:43 -0400 (Mon, 31 Mar 2025) EllapsedTime: 104.4 seconds RetCode: 0 Status: OK PackageFile: gDR_1.4.1.tar.gz PackageFileSize: 276.6 KiB