Package: gDR Version: 1.4.0 Command: rm -rf gDR.buildbin-libdir && mkdir gDR.buildbin-libdir && /Users/biocbuild/BBS/utils/build-universal.sh gDR_1.4.0.tar.gz /Library/Frameworks/R.framework/Resources/bin/R gDR.buildbin-libdir StartedAt: 2025-01-28 13:11:17 -0500 (Tue, 28 Jan 2025) EndedAt: 2025-01-28 13:12:30 -0500 (Tue, 28 Jan 2025) EllapsedTime: 72.5 seconds RetCode: 0 Status: OK PackageFile: gDR_1.4.0.tgz PackageFileSize: 278.5 KiB