Package: gDR Version: 1.4.0 Command: /Library/Frameworks/R.framework/Resources/bin/R CMD INSTALL gDR StartedAt: 2025-01-27 18:06:06 -0500 (Mon, 27 Jan 2025) EndedAt: 2025-01-27 18:06:34 -0500 (Mon, 27 Jan 2025) EllapsedTime: 28.1 seconds RetCode: 0 Status: OK