Package: gDNAx Version: 1.4.1 Command: rm -rf gDNAx.buildbin-libdir && mkdir gDNAx.buildbin-libdir && F:\biocbuild\bbs-3.20-bioc\R\bin\R.exe CMD INSTALL --build --library=gDNAx.buildbin-libdir gDNAx_1.4.1.tar.gz StartedAt: 2025-01-28 08:11:12 -0500 (Tue, 28 Jan 2025) EndedAt: 2025-01-28 08:12:36 -0500 (Tue, 28 Jan 2025) EllapsedTime: 83.5 seconds RetCode: 0 Status: OK PackageFile: gDNAx_1.4.1.zip PackageFileSize: 953.6 KiB