Package: gDNAx Version: 1.4.1 Command: /home/biocbuild/bbs-3.20-bioc/R/bin/R CMD INSTALL gDNAx StartedAt: 2025-01-27 16:16:50 -0500 (Mon, 27 Jan 2025) EndedAt: 2025-01-27 16:17:39 -0500 (Mon, 27 Jan 2025) EllapsedTime: 49.7 seconds RetCode: 0 Status: OK