Package: gDNAx Version: 1.4.1 Command: /home/biocbuild/bbs-3.20-bioc/R/bin/R CMD check --install=check:gDNAx.install-out.txt --library=/home/biocbuild/bbs-3.20-bioc/R/site-library --timings gDNAx_1.4.1.tar.gz StartedAt: 2025-01-27 23:17:01 -0500 (Mon, 27 Jan 2025) EndedAt: 2025-01-27 23:32:23 -0500 (Mon, 27 Jan 2025) EllapsedTime: 921.9 seconds RetCode: 0 Status: OK CheckDir: gDNAx.Rcheck Warnings: 0