Package: gDNAx Version: 1.4.1 Command: /home/biocbuild/bbs-3.20-bioc/R/bin/R CMD build --keep-empty-dirs --no-resave-data --md5 gDNAx StartedAt: 2025-01-27 18:15:31 -0500 (Mon, 27 Jan 2025) EndedAt: 2025-01-27 18:18:39 -0500 (Mon, 27 Jan 2025) EllapsedTime: 188.3 seconds RetCode: 0 Status: OK PackageFile: gDNAx_1.4.1.tar.gz PackageFileSize: 738.9 KiB