Package: gDNAx Version: 1.4.1 Command: /Library/Frameworks/R.framework/Resources/bin/R CMD INSTALL gDNAx StartedAt: 2025-01-27 16:24:21 -0500 (Mon, 27 Jan 2025) EndedAt: 2025-01-27 16:25:14 -0500 (Mon, 27 Jan 2025) EllapsedTime: 53.1 seconds RetCode: 0 Status: OK