Package: gDNAx Version: 1.4.1 Command: /Library/Frameworks/R.framework/Resources/bin/R CMD check --install=check:gDNAx.install-out.txt --library=/Library/Frameworks/R.framework/Resources/library --no-vignettes --timings gDNAx_1.4.1.tar.gz StartedAt: 2025-01-28 19:49:36 -0500 (Tue, 28 Jan 2025) EndedAt: 2025-01-28 20:04:41 -0500 (Tue, 28 Jan 2025) EllapsedTime: 904.9 seconds RetCode: 0 Status: OK CheckDir: gDNAx.Rcheck Warnings: 0