Package: gDNAx Version: 1.4.1 Command: /Library/Frameworks/R.framework/Resources/bin/R CMD build --keep-empty-dirs --no-resave-data gDNAx StartedAt: 2025-01-28 00:01:29 -0500 (Tue, 28 Jan 2025) EndedAt: 2025-01-28 00:05:34 -0500 (Tue, 28 Jan 2025) EllapsedTime: 245.1 seconds RetCode: 0 Status: OK PackageFile: gDNAx_1.4.1.tar.gz PackageFileSize: 742.5 KiB