Package: gCrisprTools Version: 2.12.0 Command: /home/biocbuild/R/R/bin/R CMD check --install=check:gCrisprTools.install-out.txt --library=/home/biocbuild/R/R/site-library --no-vignettes --timings gCrisprTools_2.12.0.tar.gz StartedAt: 2025-02-04 07:09:43 -0000 (Tue, 04 Feb 2025) EndedAt: 2025-02-04 07:16:36 -0000 (Tue, 04 Feb 2025) EllapsedTime: 413.3 seconds RetCode: 0 Status: OK CheckDir: gCrisprTools.Rcheck Warnings: 0