Package: gCrisprTools Version: 2.12.0 Command: F:\biocbuild\bbs-3.20-bioc\R\bin\R.exe CMD INSTALL gCrisprTools StartedAt: 2025-03-31 15:52:16 -0400 (Mon, 31 Mar 2025) EndedAt: 2025-03-31 15:53:10 -0400 (Mon, 31 Mar 2025) EllapsedTime: 54.1 seconds RetCode: 0 Status: OK