Package: gCrisprTools Version: 2.12.0 Command: chmod a+r gCrisprTools -R && F:\biocbuild\bbs-3.20-bioc\R\bin\R.exe CMD build --keep-empty-dirs --no-resave-data gCrisprTools StartedAt: 2025-01-27 19:05:01 -0500 (Mon, 27 Jan 2025) EndedAt: 2025-01-27 19:11:11 -0500 (Mon, 27 Jan 2025) EllapsedTime: 369.7 seconds RetCode: 0 Status: OK PackageFile: gCrisprTools_2.12.0.tar.gz PackageFileSize: 3.061 MiB