Package: gCrisprTools Version: 2.12.0 Command: /home/biocbuild/bbs-3.20-bioc/R/bin/R CMD INSTALL gCrisprTools StartedAt: 2025-01-27 16:23:55 -0500 (Mon, 27 Jan 2025) EndedAt: 2025-01-27 16:24:23 -0500 (Mon, 27 Jan 2025) EllapsedTime: 27.5 seconds RetCode: 0 Status: OK