Package: gCrisprTools Version: 2.12.0 Command: /Library/Frameworks/R.framework/Resources/bin/R CMD INSTALL gCrisprTools StartedAt: 2025-02-03 16:00:07 -0500 (Mon, 03 Feb 2025) EndedAt: 2025-02-03 16:01:03 -0500 (Mon, 03 Feb 2025) EllapsedTime: 55.6 seconds RetCode: 0 Status: OK