Package: gCrisprTools Version: 2.12.0 Command: /Library/Frameworks/R.framework/Resources/bin/R CMD build --keep-empty-dirs --no-resave-data gCrisprTools StartedAt: 2025-02-03 19:04:03 -0500 (Mon, 03 Feb 2025) EndedAt: 2025-02-03 19:11:53 -0500 (Mon, 03 Feb 2025) EllapsedTime: 470.6 seconds RetCode: 0 Status: OK PackageFile: gCrisprTools_2.12.0.tar.gz PackageFileSize: 4.701 MiB