Package: funtooNorm Version: 1.30.0 Command: /home/biocbuild/R/R/bin/R CMD check --install=check:funtooNorm.install-out.txt --library=/home/biocbuild/R/R/site-library --no-vignettes --timings funtooNorm_1.30.0.tar.gz StartedAt: 2025-02-04 07:07:11 -0000 (Tue, 04 Feb 2025) EndedAt: 2025-02-04 07:15:30 -0000 (Tue, 04 Feb 2025) EllapsedTime: 499.4 seconds RetCode: 0 Status: WARNINGS CheckDir: funtooNorm.Rcheck Warnings: 2