Package: funtooNorm Version: 1.30.0 Command: rm -rf funtooNorm.buildbin-libdir && mkdir funtooNorm.buildbin-libdir && F:\biocbuild\bbs-3.20-bioc\R\bin\R.exe CMD INSTALL --build --library=funtooNorm.buildbin-libdir funtooNorm_1.30.0.tar.gz StartedAt: 2025-02-11 08:29:22 -0500 (Tue, 11 Feb 2025) EndedAt: 2025-02-11 08:30:19 -0500 (Tue, 11 Feb 2025) EllapsedTime: 56.5 seconds RetCode: 0 Status: OK PackageFile: funtooNorm_1.30.0.zip PackageFileSize: 1.143 MiB