Package: funtooNorm Version: 1.30.0 Command: /Library/Frameworks/R.framework/Resources/bin/R CMD check --install=check:funtooNorm.install-out.txt --library=/Library/Frameworks/R.framework/Resources/library --no-vignettes --timings funtooNorm_1.30.0.tar.gz StartedAt: 2025-01-28 04:04:24 -0500 (Tue, 28 Jan 2025) EndedAt: 2025-01-28 04:18:43 -0500 (Tue, 28 Jan 2025) EllapsedTime: 859.4 seconds RetCode: 0 Status: WARNINGS CheckDir: funtooNorm.Rcheck Warnings: 2