Package: funtooNorm Version: 1.30.0 Command: rm -rf funtooNorm.buildbin-libdir && mkdir funtooNorm.buildbin-libdir && /Users/biocbuild/BBS/utils/build-universal.sh funtooNorm_1.30.0.tar.gz /Library/Frameworks/R.framework/Resources/bin/R funtooNorm.buildbin-libdir StartedAt: 2025-01-28 13:10:32 -0500 (Tue, 28 Jan 2025) EndedAt: 2025-01-28 13:12:41 -0500 (Tue, 28 Jan 2025) EllapsedTime: 128.9 seconds RetCode: 0 Status: OK PackageFile: funtooNorm_1.30.0.tgz PackageFileSize: 1.543 MiB