Package: funtooNorm Version: 1.30.0 Command: /Library/Frameworks/R.framework/Resources/bin/R CMD INSTALL funtooNorm StartedAt: 2025-01-30 18:06:02 -0500 (Thu, 30 Jan 2025) EndedAt: 2025-01-30 18:06:53 -0500 (Thu, 30 Jan 2025) EllapsedTime: 51.7 seconds RetCode: 0 Status: OK