Package: funOmics Version: 1.0.0 Command: /home/biocbuild/R/R/bin/R CMD INSTALL funOmics StartedAt: 2025-03-31 20:38:22 -0000 (Mon, 31 Mar 2025) EndedAt: 2025-03-31 20:38:43 -0000 (Mon, 31 Mar 2025) EllapsedTime: 21.1 seconds RetCode: 0 Status: OK