Package: frmaTools Version: 1.58.0 Command: /Library/Frameworks/R.framework/Resources/bin/R CMD INSTALL frmaTools StartedAt: 2025-01-27 15:12:15 -0500 (Mon, 27 Jan 2025) EndedAt: 2025-01-27 15:12:41 -0500 (Mon, 27 Jan 2025) EllapsedTime: 26.6 seconds RetCode: 0 Status: OK