Package: frmaTools Version: 1.58.0 Command: /Library/Frameworks/R.framework/Resources/bin/R CMD check --install=check:frmaTools.install-out.txt --library=/Library/Frameworks/R.framework/Resources/library --no-vignettes --timings frmaTools_1.58.0.tar.gz StartedAt: 2025-04-01 03:11:57 -0400 (Tue, 01 Apr 2025) EndedAt: 2025-04-01 03:13:14 -0400 (Tue, 01 Apr 2025) EllapsedTime: 77.0 seconds RetCode: 0 Status: OK CheckDir: frmaTools.Rcheck Warnings: 0