Package: frma Version: 1.58.0 Command: /home/biocbuild/R/R/bin/R CMD build --keep-empty-dirs --no-resave-data frma StartedAt: 2025-01-30 23:41:53 -0000 (Thu, 30 Jan 2025) EndedAt: 2025-01-30 23:43:08 -0000 (Thu, 30 Jan 2025) EllapsedTime: 74.0 seconds RetCode: 0 Status: OK PackageFile: frma_1.58.0.tar.gz PackageFileSize: 279.1 KiB