Package: frma Version: 1.58.0 Command: /Library/Frameworks/R.framework/Resources/bin/R CMD build --keep-empty-dirs --no-resave-data frma StartedAt: 2025-03-31 18:48:45 -0400 (Mon, 31 Mar 2025) EndedAt: 2025-03-31 18:50:48 -0400 (Mon, 31 Mar 2025) EllapsedTime: 123.0 seconds RetCode: 0 Status: OK PackageFile: frma_1.58.0.tar.gz PackageFileSize: 287.7 KiB