Package: frma Version: 1.58.0 Command: rm -rf frma.buildbin-libdir && mkdir frma.buildbin-libdir && /Users/biocbuild/BBS/utils/build-universal.sh frma_1.58.0.tar.gz /Library/Frameworks/R.framework/Resources/bin/R frma.buildbin-libdir StartedAt: 2025-04-01 11:54:20 -0400 (Tue, 01 Apr 2025) EndedAt: 2025-04-01 11:55:25 -0400 (Tue, 01 Apr 2025) EllapsedTime: 64.5 seconds RetCode: 0 Status: OK PackageFile: frma_1.58.0.tgz PackageFileSize: 734.8 KiB