Package: frenchFISH Version: 1.18.0 Command: rm -rf frenchFISH.buildbin-libdir && mkdir frenchFISH.buildbin-libdir && F:\biocbuild\bbs-3.20-bioc\R\bin\R.exe CMD INSTALL --build --library=frenchFISH.buildbin-libdir frenchFISH_1.18.0.tar.gz StartedAt: 2025-01-28 08:10:32 -0500 (Tue, 28 Jan 2025) EndedAt: 2025-01-28 08:10:53 -0500 (Tue, 28 Jan 2025) EllapsedTime: 21.5 seconds RetCode: 0 Status: OK PackageFile: frenchFISH_1.18.0.zip PackageFileSize: 56.65 KiB