Package: frenchFISH Version: 1.18.0 Command: /home/biocbuild/bbs-3.20-bioc/R/bin/R CMD build --keep-empty-dirs --no-resave-data --md5 frenchFISH StartedAt: 2025-01-27 18:13:56 -0500 (Mon, 27 Jan 2025) EndedAt: 2025-01-27 18:14:01 -0500 (Mon, 27 Jan 2025) EllapsedTime: 5.0 seconds RetCode: 0 Status: OK PackageFile: frenchFISH_1.18.0.tar.gz PackageFileSize: 21.79 KiB