Package: frenchFISH Version: 1.18.0 Command: rm -rf frenchFISH.buildbin-libdir && mkdir frenchFISH.buildbin-libdir && /Users/biocbuild/BBS/utils/build-universal.sh frenchFISH_1.18.0.tar.gz /Library/Frameworks/R.framework/Resources/bin/R frenchFISH.buildbin-libdir StartedAt: 2025-01-28 13:10:26 -0500 (Tue, 28 Jan 2025) EndedAt: 2025-01-28 13:10:32 -0500 (Tue, 28 Jan 2025) EllapsedTime: 5.5 seconds RetCode: 0 Status: OK PackageFile: frenchFISH_1.18.0.tgz PackageFileSize: 51.96 KiB