Package: fmrs Version: 1.16.0 Command: /home/biocbuild/R/R/bin/R CMD build --keep-empty-dirs --no-resave-data fmrs StartedAt: 2025-01-28 00:24:11 -0000 (Tue, 28 Jan 2025) EndedAt: 2025-01-28 00:24:30 -0000 (Tue, 28 Jan 2025) EllapsedTime: 19.0 seconds RetCode: 0 Status: OK PackageFile: fmrs_1.16.0.tar.gz PackageFileSize: 47.78 KiB