Package: fmrs Version: 1.16.0 Command: chmod a+r fmrs -R && F:\biocbuild\bbs-3.20-bioc\R\bin\R.exe CMD build --keep-empty-dirs --no-resave-data fmrs StartedAt: 2025-01-27 19:02:48 -0500 (Mon, 27 Jan 2025) EndedAt: 2025-01-27 19:03:11 -0500 (Mon, 27 Jan 2025) EllapsedTime: 23.3 seconds RetCode: 0 Status: OK PackageFile: fmrs_1.16.0.tar.gz PackageFileSize: 47.04 KiB