Package: fmrs Version: 1.16.0 Command: /Library/Frameworks/R.framework/Resources/bin/R CMD build --keep-empty-dirs --no-resave-data fmrs StartedAt: 2025-02-03 23:47:54 -0500 (Mon, 03 Feb 2025) EndedAt: 2025-02-03 23:48:12 -0500 (Mon, 03 Feb 2025) EllapsedTime: 18.2 seconds RetCode: 0 Status: OK PackageFile: fmrs_1.16.0.tar.gz PackageFileSize: 46.99 KiB