Package: fmcsR Version: 1.48.0 Command: F:\biocbuild\bbs-3.20-bioc\R\bin\R.exe CMD check --no-multiarch --install=check:fmcsR.install-out.txt --library=F:\biocbuild\bbs-3.20-bioc\R\library --no-vignettes --timings fmcsR_1.48.0.tar.gz StartedAt: 2025-02-04 01:56:32 -0500 (Tue, 04 Feb 2025) EndedAt: 2025-02-04 01:58:15 -0500 (Tue, 04 Feb 2025) EllapsedTime: 103.1 seconds RetCode: 0 Status: WARNINGS CheckDir: fmcsR.Rcheck Warnings: 1