Package: fmcsR Version: 1.48.0 Command: chmod a+r fmcsR -R && F:\biocbuild\bbs-3.20-bioc\R\bin\R.exe CMD build --keep-empty-dirs --no-resave-data fmcsR StartedAt: 2025-02-03 19:15:52 -0500 (Mon, 03 Feb 2025) EndedAt: 2025-02-03 19:16:51 -0500 (Mon, 03 Feb 2025) EllapsedTime: 58.2 seconds RetCode: 0 Status: OK PackageFile: fmcsR_1.48.0.tar.gz PackageFileSize: 467.8 KiB