Package: fmcsR Version: 1.48.0 Command: rm -rf fmcsR.buildbin-libdir && mkdir fmcsR.buildbin-libdir && F:\biocbuild\bbs-3.20-bioc\R\bin\R.exe CMD INSTALL --build --library=fmcsR.buildbin-libdir fmcsR_1.48.0.tar.gz StartedAt: 2025-02-04 08:31:16 -0500 (Tue, 04 Feb 2025) EndedAt: 2025-02-04 08:32:05 -0500 (Tue, 04 Feb 2025) EllapsedTime: 49.0 seconds RetCode: 0 Status: OK PackageFile: fmcsR_1.48.0.zip PackageFileSize: 959.7 KiB