Package: flowcatchR Version: 1.40.0 Command: /home/biocbuild/R/R/bin/R CMD build --keep-empty-dirs --no-resave-data flowcatchR StartedAt: 2025-01-28 00:20:35 -0000 (Tue, 28 Jan 2025) EndedAt: 2025-01-28 00:21:24 -0000 (Tue, 28 Jan 2025) EllapsedTime: 49.0 seconds RetCode: 0 Status: OK PackageFile: flowcatchR_1.40.0.tar.gz PackageFileSize: 6.056 MiB