Package: flowWorkspace Version: 4.18.1 Command: /home/biocbuild/R/R/bin/R CMD check --install=check:flowWorkspace.install-out.txt --library=/home/biocbuild/R/R/site-library --no-vignettes --timings flowWorkspace_4.18.1.tar.gz StartedAt: 2025-04-01 06:35:44 -0000 (Tue, 01 Apr 2025) EndedAt: 2025-04-01 06:39:24 -0000 (Tue, 01 Apr 2025) EllapsedTime: 219.2 seconds RetCode: 0 Status: WARNINGS CheckDir: flowWorkspace.Rcheck Warnings: 5