Package: flowWorkspace Version: 4.18.1 Command: /home/biocbuild/R/R/bin/R CMD build --keep-empty-dirs --no-resave-data flowWorkspace StartedAt: 2025-03-31 23:34:01 -0000 (Mon, 31 Mar 2025) EndedAt: 2025-03-31 23:37:48 -0000 (Mon, 31 Mar 2025) EllapsedTime: 227.1 seconds RetCode: 0 Status: OK PackageFile: flowWorkspace_4.18.1.tar.gz PackageFileSize: 4.131 MiB