Package: flowWorkspace Version: 4.18.1 Command: F:\biocbuild\bbs-3.20-bioc\R\bin\R.exe CMD INSTALL flowWorkspace StartedAt: 2025-03-31 15:45:33 -0400 (Mon, 31 Mar 2025) EndedAt: 2025-03-31 15:49:34 -0400 (Mon, 31 Mar 2025) EllapsedTime: 240.4 seconds RetCode: 0 Status: OK