Package: flowWorkspace Version: 4.18.1 Command: F:\biocbuild\bbs-3.20-bioc\R\bin\R.exe CMD check --no-multiarch --install=check:flowWorkspace.install-out.txt --library=F:\biocbuild\bbs-3.20-bioc\R\library --no-vignettes --timings flowWorkspace_4.18.1.tar.gz StartedAt: 2025-04-01 01:39:49 -0400 (Tue, 01 Apr 2025) EndedAt: 2025-04-01 01:46:12 -0400 (Tue, 01 Apr 2025) EllapsedTime: 383.5 seconds RetCode: 0 Status: WARNINGS CheckDir: flowWorkspace.Rcheck Warnings: 5