Package: flowWorkspace Version: 4.18.1 Command: chmod a+r flowWorkspace -R && F:\biocbuild\bbs-3.20-bioc\R\bin\R.exe CMD build --keep-empty-dirs --no-resave-data flowWorkspace StartedAt: 2025-03-31 19:03:40 -0400 (Mon, 31 Mar 2025) EndedAt: 2025-03-31 19:08:05 -0400 (Mon, 31 Mar 2025) EllapsedTime: 265.4 seconds RetCode: 0 Status: OK PackageFile: flowWorkspace_4.18.1.tar.gz PackageFileSize: 3.764 MiB