Package: flowWorkspace Version: 4.18.1 Command: /home/biocbuild/bbs-3.20-bioc/R/bin/R CMD INSTALL flowWorkspace StartedAt: 2025-03-31 15:18:14 -0400 (Mon, 31 Mar 2025) EndedAt: 2025-03-31 15:20:24 -0400 (Mon, 31 Mar 2025) EllapsedTime: 130.2 seconds RetCode: 0 Status: OK