Package: flowWorkspace Version: 4.18.0 Command: /home/biocbuild/bbs-3.20-bioc/R/bin/R CMD check --install=check:flowWorkspace.install-out.txt --library=/home/biocbuild/bbs-3.20-bioc/R/site-library --timings flowWorkspace_4.18.0.tar.gz StartedAt: 2025-01-27 23:12:42 -0500 (Mon, 27 Jan 2025) EndedAt: 2025-01-27 23:15:55 -0500 (Mon, 27 Jan 2025) EllapsedTime: 192.2 seconds RetCode: 0 Status: WARNINGS CheckDir: flowWorkspace.Rcheck Warnings: 5