Package: flowWorkspace Version: 4.18.1 Command: /Library/Frameworks/R.framework/Resources/bin/R CMD build --keep-empty-dirs --no-resave-data flowWorkspace StartedAt: 2025-03-31 18:48:01 -0400 (Mon, 31 Mar 2025) EndedAt: 2025-03-31 18:53:21 -0400 (Mon, 31 Mar 2025) EllapsedTime: 320.0 seconds RetCode: 0 Status: OK PackageFile: flowWorkspace_4.18.1.tar.gz PackageFileSize: 5.704 MiB