Package: flowWorkspace Version: 4.18.0 Command: /Library/Frameworks/R.framework/Resources/bin/R CMD INSTALL flowWorkspace StartedAt: 2025-01-27 15:32:04 -0500 (Mon, 27 Jan 2025) EndedAt: 2025-01-27 15:33:57 -0500 (Mon, 27 Jan 2025) EllapsedTime: 113.2 seconds RetCode: 0 Status: OK