Package: flowWorkspace Version: 4.18.0 Command: /Library/Frameworks/R.framework/Resources/bin/R CMD check --install=check:flowWorkspace.install-out.txt --library=/Library/Frameworks/R.framework/Resources/library --no-vignettes --timings flowWorkspace_4.18.0.tar.gz StartedAt: 2025-01-28 19:32:07 -0500 (Tue, 28 Jan 2025) EndedAt: 2025-01-28 19:35:36 -0500 (Tue, 28 Jan 2025) EllapsedTime: 209.0 seconds RetCode: 0 Status: WARNINGS CheckDir: flowWorkspace.Rcheck Warnings: 5