Package: flowWorkspace Version: 4.18.0 Command: /Library/Frameworks/R.framework/Resources/bin/R CMD build --keep-empty-dirs --no-resave-data flowWorkspace StartedAt: 2025-02-03 23:47:28 -0500 (Mon, 03 Feb 2025) EndedAt: 2025-02-03 23:50:10 -0500 (Mon, 03 Feb 2025) EllapsedTime: 162.8 seconds RetCode: 0 Status: OK PackageFile: flowWorkspace_4.18.0.tar.gz PackageFileSize: 5.7 MiB